BEGIN:VCALENDAR
VERSION:2.0
PRODID:-//Roberta RegioZentrum Hannover - ECPv6.15.20//NONSGML v1.0//EN
CALSCALE:GREGORIAN
METHOD:PUBLISH
X-WR-CALNAME:Roberta RegioZentrum Hannover
X-ORIGINAL-URL:https://roberta-hannover.de
X-WR-CALDESC:Veranstaltungen für Roberta RegioZentrum Hannover
REFRESH-INTERVAL;VALUE=DURATION:PT1H
X-Robots-Tag:noindex
X-PUBLISHED-TTL:PT1H
BEGIN:VTIMEZONE
TZID:Europe/Berlin
BEGIN:DAYLIGHT
TZOFFSETFROM:+0100
TZOFFSETTO:+0200
TZNAME:CEST
DTSTART:20250330T010000
END:DAYLIGHT
BEGIN:STANDARD
TZOFFSETFROM:+0200
TZOFFSETTO:+0100
TZNAME:CET
DTSTART:20251026T010000
END:STANDARD
BEGIN:DAYLIGHT
TZOFFSETFROM:+0100
TZOFFSETTO:+0200
TZNAME:CEST
DTSTART:20260329T010000
END:DAYLIGHT
BEGIN:STANDARD
TZOFFSETFROM:+0200
TZOFFSETTO:+0100
TZNAME:CET
DTSTART:20261025T010000
END:STANDARD
BEGIN:DAYLIGHT
TZOFFSETFROM:+0100
TZOFFSETTO:+0200
TZNAME:CEST
DTSTART:20270328T010000
END:DAYLIGHT
BEGIN:STANDARD
TZOFFSETFROM:+0200
TZOFFSETTO:+0100
TZNAME:CET
DTSTART:20271031T010000
END:STANDARD
END:VTIMEZONE
BEGIN:VEVENT
DTSTART;TZID=Europe/Berlin:20260414T163000
DTEND;TZID=Europe/Berlin:20260428T180000
DTSTAMP:20260421T181543
CREATED:20251107T201829Z
LAST-MODIFIED:20260331T154819Z
UID:11358-1776184200-1777399200@roberta-hannover.de
SUMMARY:RoboForscher*innen mit LEGO® Education SPIKE™ – Kurs für Fortgeschrittene
DESCRIPTION:Wann: 14.04.2026 + 21.04.2026 + 28.04.2026\, jeweils von 16:30 -18:00 Uhr \nAlter: Ab 4. Klasse und mind. 10 Jahre (Veranstaltungszeitpunkt) \n\nBaue\, programmiere und optimiere – bring deinen Roboter auf das nächste Level! \nFür wen? \nKinder ab der 4. Klasse und mindestens 10 Jahre (Veranstaltungszeitpunkt) oder die bereits nachweislich bei uns an einem LEGO® Education SPIKE™ Angebot (RoboEntdecker*innen mit dem LEGO® Education SPIKE™ oder Ferien Camp) teilgenommen haben. \nInhalt \nIn diesem Aufbaukurs vertiefst du dein Wissen über Robotik und Programmierung. \nDu entwickelst eigene kreative Roboterprojekte und lernst\, wie du deinen Roboter mit komplexeren Programmen und Sensoren ausstattest. \nDu wirst: \n\neigene Programmabläufe planen und optimieren\,\nmit mehreren Sensoren arbeiten (z. B. Abstand\, Farbe\, Gyro)\,\ndeinen Roboter präzise steuern und auf Herausforderungen im Parcours vorbereiten\nund spannende Teamaufgaben lösen\, bei denen Kreativität und Logik gefragt sind.\nAm Ende des Workshops ist dein Roboter bereit für knifflige Missionen – vielleicht sogar für kleine Wettbewerbe!\n\nKosten: 90\,00 € \nWo: Roberta RegioZentrum\, Leibniz Universität Hannover\, Appelstrasse 11 \nGruppengröße: Die Mindestanzahl der Teilnehmenden liegt bei 5 Schüler*innen\, die Anzahl der Plätze ist auf 10 Schüler*innen beschränkt \nOhne Verpflegung! \nFragen bitte an info@roberta-hannover.de \n  \nStornierungsrichtlinien:\nEine kostenfreie Stornierung ist leider nicht möglich.
URL:https://roberta-hannover.de/veranstaltung/roboforscherinnen-mit-lego-education-spike-kurs-fuer-fortgeschrittene
LOCATION:Roberta RegioZentrum Hannover\, Appelstraße 11\, Hannover\, Niedersachsen\, 30167\, Deutschland
ATTACH;FMTTYPE=image/png:https://roberta-hannover.de/wp-content/uploads/2025/11/23ab5a3b-62ed-466e-9871-af4fe0f00fc5.png
ORGANIZER;CN="Roberta RegioZentrum Hannover":MAILTO:info@roberta-hannover.de
END:VEVENT
END:VCALENDAR