BEGIN:VCALENDAR
VERSION:2.0
PRODID:-//Roberta RegioZentrum Hannover - ECPv6.15.20//NONSGML v1.0//EN
CALSCALE:GREGORIAN
METHOD:PUBLISH
X-WR-CALNAME:Roberta RegioZentrum Hannover
X-ORIGINAL-URL:https://roberta-hannover.de
X-WR-CALDESC:Veranstaltungen für Roberta RegioZentrum Hannover
REFRESH-INTERVAL;VALUE=DURATION:PT1H
X-Robots-Tag:noindex
X-PUBLISHED-TTL:PT1H
BEGIN:VTIMEZONE
TZID:Europe/Berlin
BEGIN:DAYLIGHT
TZOFFSETFROM:+0100
TZOFFSETTO:+0200
TZNAME:CEST
DTSTART:20250330T010000
END:DAYLIGHT
BEGIN:STANDARD
TZOFFSETFROM:+0200
TZOFFSETTO:+0100
TZNAME:CET
DTSTART:20251026T010000
END:STANDARD
BEGIN:DAYLIGHT
TZOFFSETFROM:+0100
TZOFFSETTO:+0200
TZNAME:CEST
DTSTART:20260329T010000
END:DAYLIGHT
BEGIN:STANDARD
TZOFFSETFROM:+0200
TZOFFSETTO:+0100
TZNAME:CET
DTSTART:20261025T010000
END:STANDARD
BEGIN:DAYLIGHT
TZOFFSETFROM:+0100
TZOFFSETTO:+0200
TZNAME:CEST
DTSTART:20270328T010000
END:DAYLIGHT
BEGIN:STANDARD
TZOFFSETFROM:+0200
TZOFFSETTO:+0100
TZNAME:CET
DTSTART:20271031T010000
END:STANDARD
END:VTIMEZONE
BEGIN:VEVENT
DTSTART;TZID=Europe/Berlin:20260414T163000
DTEND;TZID=Europe/Berlin:20260428T180000
DTSTAMP:20260421T125739
CREATED:20251107T201829Z
LAST-MODIFIED:20260331T154819Z
UID:11358-1776184200-1777399200@roberta-hannover.de
SUMMARY:RoboForscher*innen mit LEGO® Education SPIKE™ – Kurs für Fortgeschrittene
DESCRIPTION:Wann: 14.04.2026 + 21.04.2026 + 28.04.2026\, jeweils von 16:30 -18:00 Uhr \nAlter: Ab 4. Klasse und mind. 10 Jahre (Veranstaltungszeitpunkt) \n\nBaue\, programmiere und optimiere – bring deinen Roboter auf das nächste Level! \nFür wen? \nKinder ab der 4. Klasse und mindestens 10 Jahre (Veranstaltungszeitpunkt) oder die bereits nachweislich bei uns an einem LEGO® Education SPIKE™ Angebot (RoboEntdecker*innen mit dem LEGO® Education SPIKE™ oder Ferien Camp) teilgenommen haben. \nInhalt \nIn diesem Aufbaukurs vertiefst du dein Wissen über Robotik und Programmierung. \nDu entwickelst eigene kreative Roboterprojekte und lernst\, wie du deinen Roboter mit komplexeren Programmen und Sensoren ausstattest. \nDu wirst: \n\neigene Programmabläufe planen und optimieren\,\nmit mehreren Sensoren arbeiten (z. B. Abstand\, Farbe\, Gyro)\,\ndeinen Roboter präzise steuern und auf Herausforderungen im Parcours vorbereiten\nund spannende Teamaufgaben lösen\, bei denen Kreativität und Logik gefragt sind.\nAm Ende des Workshops ist dein Roboter bereit für knifflige Missionen – vielleicht sogar für kleine Wettbewerbe!\n\nKosten: 90\,00 € \nWo: Roberta RegioZentrum\, Leibniz Universität Hannover\, Appelstrasse 11 \nGruppengröße: Die Mindestanzahl der Teilnehmenden liegt bei 5 Schüler*innen\, die Anzahl der Plätze ist auf 10 Schüler*innen beschränkt \nOhne Verpflegung! \nFragen bitte an info@roberta-hannover.de \n  \nStornierungsrichtlinien:\nEine kostenfreie Stornierung ist leider nicht möglich.
URL:https://roberta-hannover.de/veranstaltung/roboforscherinnen-mit-lego-education-spike-kurs-fuer-fortgeschrittene
LOCATION:Roberta RegioZentrum Hannover\, Appelstraße 11\, Hannover\, Niedersachsen\, 30167\, Deutschland
ATTACH;FMTTYPE=image/png:https://roberta-hannover.de/wp-content/uploads/2025/11/23ab5a3b-62ed-466e-9871-af4fe0f00fc5.png
ORGANIZER;CN="Roberta RegioZentrum Hannover":MAILTO:info@roberta-hannover.de
END:VEVENT
BEGIN:VEVENT
DTSTART;TZID=Europe/Berlin:20260605T080000
DTEND;TZID=Europe/Berlin:20260612T170000
DTSTAMP:20260421T125739
CREATED:20260420T143422Z
LAST-MODIFIED:20260421T081556Z
UID:11836-1780646400-1781283600@roberta-hannover.de
SUMMARY:Robotik Schnuppern - kostenlos für Mädchen
DESCRIPTION:In diesem Workshop baust du deinen ersten eigenen Roboter – entweder nach Anleitung oder nach deinen eigenen Ideen – auf Basis des LEGO® Education SPIKE™ und lernst\, ihn mit einer grafischen Programmiersprache zu programmieren. \nDu wirst lernen\, Sensoren einzusetzen\, damit dein Roboter sehen und sich in der Welt zurechtfinden kann. Am Ende des Workshops kann dein Roboter schon alleine fahren\, tanzen\, einer Linie folgen oder sich in einem Parcours zurechtfinden. \nDieses Angebot richtet sich ausschließlich an Mädchen. Im Rahmen der Mädchenförderung der robospace gGmbH – dem Bildungsträger des Roberta RegioZentrums – ist die Teilnahme kostenfrei. Ziel ist es\, den Zugang zu MINT-Themen niedrigschwellig zu gestalten. \n  \nWann: 05.06.2026 (Fr.) + 12.06.2026 (Fr.)\, jeweils von 16:30 – 18:00 Uhr \nAlter: Ab 4. Klasse und mind. 9 Jahre (Veranstaltungszeitpunkt) \nZielgruppe: Ausschließlich Schülerinnen \nKosten: Kostenlos für die Teilnehmerinnen. Die Buchung erfolgt über ein Ticket in Höhe von 20\,00 €\, das nach erfolgreicher Teilnahme vollständig erstattet wird. Hintergrund: Da bei kostenfreien Angeboten in der Vergangenheit viele angemeldete Plätze unverbindlich blieben und nicht wahrgenommen wurden\, dient das Ticket als Reservierungspfand. \nWo: Roberta RegioZentrum\, Leibniz Universität Hannover\, Appelstraße 11 \nGruppengröße: Mindestens 6\, maximal 10 Schülerinnen \nOhne Verpflegung! \nFragen bitte an info@roberta-hannover.de \n  \nStornierungsrichtlinien:\nEine kostenfreie Stornierung ist leider nicht möglich.
URL:https://roberta-hannover.de/veranstaltung/robotik-schnuppern-kostenlos-fuer-maedchen
LOCATION:Roberta RegioZentrum Hannover\, Appelstraße 11\, Hannover\, Niedersachsen\, 30167\, Deutschland
ATTACH;FMTTYPE=image/jpeg:https://roberta-hannover.de/wp-content/uploads/2024/02/Roberta-Challenge-2023.00_01_03_08.Standbild005-scaled-e1743701139566.jpg
ORGANIZER;CN="Roberta RegioZentrum Hannover":MAILTO:info@roberta-hannover.de
END:VEVENT
BEGIN:VEVENT
DTSTART;TZID=Europe/Berlin:20260620T090000
DTEND;TZID=Europe/Berlin:20260628T180000
DTSTAMP:20260421T125739
CREATED:20230909T131918Z
LAST-MODIFIED:20260203T182504Z
UID:9518-1781946000-1782669600@roberta-hannover.de
SUMMARY:IdeenExpo 2026
DESCRIPTION:Kommt uns auf der IdeenExpo besuchen! \nFür Schüler:innen ab Klasse 5: Auf der IdeenExpo kannst du Technik & Naturwissenschaften selbst ausprobieren und dabei einfach rausfinden\, welche Berufe oder Studiengänge zu dir passen. \n20.-28. Juni 2026 | täglich 09:00–18:00 Uhr | Messegelände Hannover   \nFreut euch auf spannende Exponate zum Entdecken und Mitmachen. Ihr findet uns dieses Jahr wieder auf einem Gemeinschaftsstand zusammen mit der Region Hannover\, der IHK Hannover\, roboterfabrik\, der Leibniz Universität Hannover\, der Robokind Stiftung und den LUHbots. \nSchaut vorbei – wir freuen uns auf euren Besuch!
URL:https://roberta-hannover.de/veranstaltung/ideenexpo
LOCATION:Niedersachsen
ATTACH;FMTTYPE=image/jpeg:https://roberta-hannover.de/wp-content/uploads/2023/09/IdeenExpo-Hannover.jpg
END:VEVENT
BEGIN:VEVENT
DTSTART;TZID=Europe/Berlin:20260729T100000
DTEND;TZID=Europe/Berlin:20260731T140000
DTSTAMP:20260421T125739
CREATED:20260408T130820Z
LAST-MODIFIED:20260409T135019Z
UID:11768-1785319200-1785506400@roberta-hannover.de
SUMMARY:Maker Days - Bauen\, Löten\, Gestalten - in den Sommerferien
DESCRIPTION:Bei unseren Maker Days tauchst du in die Welt des Machens ein! In diesem dreitägigen Workshop baust du aus vielfältigen Bausätzen eigene Modelle und Mechanismen – von Fahrzeugen bis hin zu beweglichen Konstruktionen. Dabei lernst du spielerisch physikalische Grundprinzipien wie Mechanik\, Elektronik\, Pneumatik oder Windantrieb kennen. Mit Lötkolben\, 3D-Drucker und Lasercutter kannst du deine Projekte zusätzlich individualisieren und erweitern. Am Ende des Workshops nimmst du deine selbst gebauten Werke mit nach Hause. \nWas dich erwartet: \n\nHands-on Bauen: Setze aus verschiedenen Bausätzen eigene Modelle zusammen und entdecke dabei technische Grundprinzipien aus Mechanik\, Elektronik und mehr.\nKreatives Gestalten: Individualisiere deine Projekte mit dem Lötkolben\, 3D-Drucker und Lasercutter.\nTechnik begreifen: Erfahre an konkreten Projekten\, wie physikalische Prinzipien in der Praxis funktionieren.\n\nDetails zur Veranstaltung: \n\nDatum: 29.07. – 31.07.2026\nUhrzeit: Täglich von 10:00 – 14:00 Uhr\nAlter: Ab 5. Klasse und mindestens 10 Jahre (Veranstaltungszeitpunkt)\nKosten: 210\,00 € (inkl. Materialkosten)\nGruppengröße: Die Mindestanzahl der Teilnehmenden liegt bei 5 Schüler*innen\, die Anzahl der Plätze ist auf 16 Schüler*innen beschränkt\nOhne Verpflegung!\n\nSichere dir jetzt deinen Platz und erlebe\, wie viel Freude es macht\, Dinge selbst zu gestalten und zu fertigen. Wir freuen uns auf deine Teilnahme an diesem praxisnahen Maker-Event in den Sommerferien! \nBei Fragen wende dich gerne an: info@roberta-hannover.de \nStornierungsrichtlinien:\nEine kostenfreie Stornierung ist leider nicht möglich.
URL:https://roberta-hannover.de/veranstaltung/maker-days-in-den-sommerferien-26
LOCATION:Roberta RegioZentrum Hannover\, Appelstraße 11\, Hannover\, Niedersachsen\, 30167\, Deutschland
CATEGORIES:Ab 5. Klasse
ATTACH;FMTTYPE=image/jpeg:https://roberta-hannover.de/wp-content/uploads/2026/04/makercamp-e1775742923835.jpg
ORGANIZER;CN="Roberta RegioZentrum Hannover":MAILTO:info@roberta-hannover.de
END:VEVENT
BEGIN:VEVENT
DTSTART;TZID=Europe/Berlin:20260803T100000
DTEND;TZID=Europe/Berlin:20260805T140000
DTSTAMP:20260421T125739
CREATED:20260409T133617Z
LAST-MODIFIED:20260409T170754Z
UID:11778-1785751200-1785938400@roberta-hannover.de
SUMMARY:3D-Druck Führerschein: Entfalte deine Kreativität - Basiswissen und nützliche Tricks für den Einstieg
DESCRIPTION:Entdecke die Welt des 3D-Drucks von Grund auf: In diesem dreitägigen Kurs lernst du alles\, was wichtig ist – von der Konstruktion mit professionellen CAD-Programmen bis hin zum Slicen\, der richtigen Filamentwahl und der Fehlerbehebung am Drucker. Am Ende druckst du dir deinen eigenen 3D-Druck-Führerschein aus\, den du individuell gestalten und als Andenken mit nach Hause nehmen kannst. Mach dich bereit\, deine Ideen in die Realität umzusetzen! \nKursziele: \n\nEigenständiges Arbeiten mit den Grundlagen in Fusion 360 und Bambu Studio\nGrundlegendes Verständnis über die Funktionsweise eines 3D-Druckers\nEigenständiges Erstellen und Ausdrucken von maßhaltigen 3D-Objekten\nGeübter Umgang mit dem Messschieber\n\nZielgruppe: \n\nSchüler*innen ab der 5. Klasse\n\nKursdetails: \n\nTermine: 03.-05. August 2026\nUhrzeit: 10:00 – 14:00 Uhr\nKosten: 210\,00 € (inkl. Material)\nTeilnehmerzahl: Mindestens 5\, maximal 12\nOhne Verpflegung\n\nStornierungsrichtlinien:\nEine kostenfreie Stornierung ist leider nicht möglich.
URL:https://roberta-hannover.de/veranstaltung/3d-druck-fuehrerschein-26
LOCATION:Roberta RegioZentrum Hannover\, Appelstraße 11\, Hannover\, Niedersachsen\, 30167\, Deutschland
ATTACH;FMTTYPE=image/jpeg:https://roberta-hannover.de/wp-content/uploads/2026/04/3ddruckfuehrerschein.jpg
ORGANIZER;CN="Roberta RegioZentrum Hannover":MAILTO:info@roberta-hannover.de
END:VEVENT
BEGIN:VEVENT
DTSTART;TZID=Europe/Berlin:20260810T100000
DTEND;TZID=Europe/Berlin:20260812T140000
DTSTAMP:20260421T125739
CREATED:20251107T182443Z
LAST-MODIFIED:20251107T211958Z
UID:11351-1786356000-1786543200@roberta-hannover.de
SUMMARY:Sommerferien Camp: RoboEntdecker*innen mit dem LEGO® Education SPIKE™
DESCRIPTION:Erlebe die Faszination Robotik in den Ferien! Unser 3-tägiges Ferien Camp lädt Schüler*innen ab der 3. Klasse dazu ein\, spielerisch in die Welt der Technik einzutauchen. \nIm Camp baust du deinen eigenen LEGO® Education SPIKE™ Roboter – entweder nach Anleitung oder ganz kreativ auf eigene Faust. Lerne\, wie du ihn mit einer grafischen Programmiersprache programmierst\, Sensoren einsetzt und spannende Aufgaben autonom lösen lässt. \n\nAlter: Ab 3. Klasse und mind. 9 Jahre (Veranstaltungszeitpunkt)\nDatum: 10.08.2026 – 12.08.2026 (Letzte 3 Tage der Sommerferien)\nUhrzeit: 10:00 – 14:00 Uhr\nKosten: 170\,00 €\nGruppengröße: Die Mindestanzahl der Teilnehmenden liegt bei 6 Schüler*innen\, die Anzahl der Plätze ist auf 14 Schüler*innen beschränkt\nOhne Verpflegung! \nSichere dir jetzt deinen Platz und entdecke\, wie viel Spaß Technik\, Programmierung und kreatives Tüfteln machen können! \nFragen bitte an info@roberta-hannover.de \n\nStornierungsrichtlinien:\nEine kostenfreie Stornierung ist leider nicht möglich.
URL:https://roberta-hannover.de/veranstaltung/sommerferien-camp-lego-spike
LOCATION:Roberta RegioZentrum Hannover\, Appelstraße 11\, Hannover\, Niedersachsen\, 30167\, Deutschland
CATEGORIES:Ab 3. Klasse
ATTACH;FMTTYPE=image/png:https://roberta-hannover.de/wp-content/uploads/2025/11/627cd873-8d73-4870-b321-6827c644e067.png
ORGANIZER;CN="Roberta RegioZentrum Hannover":MAILTO:info@roberta-hannover.de
END:VEVENT
BEGIN:VEVENT
DTSTART;TZID=Europe/Berlin:20261012T100000
DTEND;TZID=Europe/Berlin:20261014T140000
DTSTAMP:20260421T125739
CREATED:20251107T191612Z
LAST-MODIFIED:20251107T212008Z
UID:11355-1791799200-1791986400@roberta-hannover.de
SUMMARY:Herbstferien Camp: RoboEntdecker*innen mit dem LEGO® Education SPIKE™
DESCRIPTION:Erlebe die Faszination Robotik in den Ferien! Unser 3-tägiges Ferien Camp lädt Schüler*innen ab der 3. Klasse dazu ein\, spielerisch in die Welt der Technik einzutauchen. \nIm Camp baust du deinen eigenen LEGO® Education SPIKE™ Roboter – entweder nach Anleitung oder ganz kreativ auf eigene Faust. Lerne\, wie du ihn mit einer grafischen Programmiersprache programmierst\, Sensoren einsetzt und spannende Aufgaben autonom lösen lässt. \n\nAlter: Ab 3. Klasse und mind. 8 Jahre (Veranstaltungszeitpunkt)\nDatum: 12.10.2026 – 14.10.2026\nUhrzeit: 10:00 – 14:00 Uhr\nKosten: 170\,00 €\nGruppengröße: Die Mindestanzahl der Teilnehmenden liegt bei 6 Schüler*innen\, die Anzahl der Plätze ist auf 14 Schüler*innen beschränkt\nOhne Verpflegung! \nSichere dir jetzt deinen Platz und entdecke\, wie viel Spaß Technik\, Programmierung und kreatives Tüfteln machen können! \nFragen bitte an info@roberta-hannover.de \n\nStornierungsrichtlinien:\nEine kostenfreie Stornierung ist leider nicht möglich.
URL:https://roberta-hannover.de/veranstaltung/herbstferien-camp-lego-spike-2
LOCATION:Roberta RegioZentrum Hannover\, Appelstraße 11\, Hannover\, Niedersachsen\, 30167\, Deutschland
CATEGORIES:Ab 3. Klasse
ATTACH;FMTTYPE=image/png:https://roberta-hannover.de/wp-content/uploads/2025/11/a121e436-6b98-4c48-83d5-9d99cc060ca4.png
ORGANIZER;CN="Roberta RegioZentrum Hannover":MAILTO:info@roberta-hannover.de
END:VEVENT
BEGIN:VEVENT
DTSTART;TZID=Europe/Berlin:20261019T100000
DTEND;TZID=Europe/Berlin:20261021T140000
DTSTAMP:20260421T125739
CREATED:20260409T150931Z
LAST-MODIFIED:20260409T172054Z
UID:11786-1792404000-1792591200@roberta-hannover.de
SUMMARY:Feriencamp - Sicher und smart mit Künstlicher Intelligenz
DESCRIPTION:In diesem dreitägigen Feriencamp lernst du die Grundlagen generativer KI kennen und erfährst\, wie du KI-Tools sinnvoll\, sicher und kritisch einsetzt. Du arbeitest mit aktuellen KI-Umgebungen\, lernst Ergebnisse richtig einzuordnen und zu bewerten. Außerdem verknüpfst du KI mit der Realität durch bspw. mobile Robotik und erlebst so\, wie moderne Technologien zusammenwirken. Am Ende des Camps erhältst du den KI-Basis-Kompetenznachweis des Roberta RegioZentrums. \nWas dich erwartet: \n\nGenerative KI verstehen: Lerne die Grundlagen generativer KI kennen und entdecke\, wie moderne KI-Tools funktionieren.\nSicher und kritisch mit KI arbeiten: Beschäftige dich mit Sicherheit und lerne\, KI-Ergebnisse sinnvoll zu hinterfragen und zu bewerten.\nPraxis mit KI und Robotik: Nutze aktuelle KI-Umgebungen praktisch und verknüpfe deine Arbeit mit mobiler Robotik.\nZertifikat erwerben: Zum Abschluss erhältst du den KI-Basis-Kompetenznachweis des Roberta RegioZentrums.\n\nZielgruppe: \n\nAb 6. Klasse und mind. 11 Jahre (Veranstaltungszeitpunkt)\n\nKursdetails: \n\nTermine: 19.-21. Oktober 2026\nUhrzeit: 10:00 – 14:00 Uhr\nKosten: 200\,00 €\nTeilnehmerzahl: Mindestens 5\, maximal 12\n\nMach dich bereit für einen spannenden Einstieg in die Welt der KI und entdecke\, wie du neue Technologien kreativ\, praktisch und verantwortungsvoll nutzen kannst. Wir freuen uns auf deine Teilnahme! \nBei Fragen wende dich gerne an: info@roberta-hannover.de \nStornierungsrichtlinien:\nEine kostenfreie Stornierung ist leider nicht möglich.
URL:https://roberta-hannover.de/veranstaltung/feriencamp-sicher-und-smart-mit-kuenstlicher-intelligenz
LOCATION:Niedersachsen
ATTACH;FMTTYPE=image/jpeg:https://roberta-hannover.de/wp-content/uploads/2026/04/kicamp53.jpg
END:VEVENT
BEGIN:VEVENT
DTSTART;TZID=Europe/Berlin:20261107T130000
DTEND;TZID=Europe/Berlin:20261107T163000
DTSTAMP:20260421T125739
CREATED:20250403T180622Z
LAST-MODIFIED:20260409T173622Z
UID:10665-1794056400-1794069000@roberta-hannover.de
SUMMARY:Vereinsmeisterschaft i-bots – Besucher erwünscht
DESCRIPTION:Eintreffen der Schüler*innen: ab 8:00 Uhr\nStart: 8:30 Uhr\nBesucher ab: 13:00 Uhr\nVoraussichtliches Ende: 16:30 Uhr \nErlebe unseren eigenen Wettbewerb\, bei dem alle i‑bots-Teams in spannenden Kategorien gegeneinander antreten! Freu dich auf einen Tag voller innovativer Technik\, mitreißender Teamarbeit und überraschender Herausforderungen. Lass dich von der Begeisterung unserer jungen Talente anstecken und tauche ein in eine Atmosphäre\, in der Leidenschaft und Kreativität aufeinandertreffen. Ob du Technikenthusiast bist oder einfach nur neugierig – bei der Vereinsmeisterschaft i‑bots ist für jeden etwas dabei.
URL:https://roberta-hannover.de/veranstaltung/vereinsmeisterschaft-i-bots-besucher-erwuenscht
LOCATION:Roberta RegioZentrum Hannover\, Appelstraße 11\, Hannover\, Niedersachsen\, 30167\, Deutschland
ATTACH;FMTTYPE=image/jpeg:https://roberta-hannover.de/wp-content/uploads/2023/09/6-DM-Kassel-scaled-zpA8uj.tmp_-e1694270719538.jpg
ORGANIZER;CN="Roberta RegioZentrum Hannover":MAILTO:info@roberta-hannover.de
END:VEVENT
BEGIN:VEVENT
DTSTART;TZID=Europe/Berlin:20261124T073000
DTEND;TZID=Europe/Berlin:20261124T190000
DTSTAMP:20260421T125739
CREATED:20260204T181510Z
LAST-MODIFIED:20260409T174253Z
UID:11584-1795505400-1795546800@roberta-hannover.de
SUMMARY:Roberta Challenge & Roberta Challenge KREATIV
DESCRIPTION:Die Roberta-Challenge ist ein regionaler Roboterwettbewerb\, der von Schülerinnen entwickelt und organisiert wird. Er richtet sich an Schülerinnen ab der 5. Klasse sowie an Lehrer*innen\, die sich mit ihren Teams daran beteiligen können. Um teilzunehmen\, müssen die Teams im Vorfeld einen fahrtüchtigen Roboter entwickeln und diesen mitbringen. Die Aufgaben\, die die Teams im Wettbewerb bewältigen müssen\, werden erst am Wettbewerbstag bekannt gegeben und sind darauf ausgelegt\, schnell und präzise bearbeitet zu werden. \nDas Spielfeld für den Wettbewerb ist als Parcours aufgebaut\, dessen Thema jährlich von einem Schülerinnenteam entwickelt wird. Die teilnehmenden Teams\, sowohl Schülerteams als auch Lehrerteams\, müssen die vorgefertigten Aufgaben auf dem Parcours bewältigen. Die Lehrerteams bekommen dabei erschwerte Aufgaben gestellt. Die Roberta-Challenge bietet Schülerinnen und Lehrer*innen die Möglichkeit\, sich auf spielerische Weise mit dem Thema Robotik zu beschäftigen und ihre Fähigkeiten unter Beweis zu stellen.
URL:https://roberta-hannover.de/veranstaltung/roberta-challenge-roberta-challenge-kreativ
LOCATION:Roberta RegioZentrum Hannover\, Appelstraße 11\, Hannover\, Niedersachsen\, 30167\, Deutschland
ATTACH;FMTTYPE=image/webp:https://roberta-hannover.de/wp-content/uploads/2022/12/P1018471.webp
ORGANIZER;CN="Roberta RegioZentrum Hannover":MAILTO:info@roberta-hannover.de
END:VEVENT
BEGIN:VEVENT
DTSTART;TZID=Europe/Berlin:20261201T163000
DTEND;TZID=Europe/Berlin:20261215T180000
DTSTAMP:20260421T125739
CREATED:20251107T211636Z
LAST-MODIFIED:20260409T172755Z
UID:11370-1796142600-1797357600@roberta-hannover.de
SUMMARY:RoboForscher*innen mit LEGO® Education SPIKE™ – Kurs für Fortgeschrittene
DESCRIPTION:Wann: 01.12.2026 + 08.12.2026 + 15.12.2026\, jeweils von 16:30 – 18:00 Uhr \nAlter: Ab 4. Klasse und mind. 10 Jahre (Veranstaltungszeitpunkt) \nBaue\, programmiere und optimiere – bring deinen Roboter auf das nächste Level! \nFür wen? \nKinder ab der 4. Klasse und mindestens 10 Jahre (Veranstaltungszeitpunkt) oder die bereits nachweislich bei uns an einem LEGO® Education SPIKE™ Angebot (RoboEntdecker*innen mit dem LEGO® Education SPIKE™ oder Ferien Camp) teilgenommen haben. \nInhalt \nIn diesem Aufbaukurs vertiefst du dein Wissen über Robotik und Programmierung. \nDu entwickelst eigene kreative Roboterprojekte und lernst\, wie du deinen Roboter mit komplexeren Programmen und Sensoren ausstattest. \nDu wirst: \n\neigene Programmabläufe planen und optimieren\,\nmit mehreren Sensoren arbeiten (z. B. Abstand\, Farbe\, Gyro)\,\ndeinen Roboter präzise steuern und auf Herausforderungen im Parcours vorbereiten\nund spannende Teamaufgaben lösen\, bei denen Kreativität und Logik gefragt sind.\nAm Ende des Workshops ist dein Roboter bereit für knifflige Missionen – vielleicht sogar für kleine Wettbewerbe!\n\nKosten: 90\,00 € \nWo: Roberta RegioZentrum\, Leibniz Universität Hannover\, Appelstrasse 11 \nGruppengröße: Die Mindestanzahl der Teilnehmenden liegt bei 5 Schüler*innen\, die Anzahl der Plätze ist auf 10 Schüler*innen beschränkt \nOhne Verpflegung! \nFragen bitte an info@roberta-hannover.de \nStornierungsrichtlinien:\nEine kostenfreie Stornierung ist leider nicht möglich.
URL:https://roberta-hannover.de/veranstaltung/roboforscherinnen-mit-lego-education-spike-kurs-fuer-fortgeschrittene-2
LOCATION:Roberta RegioZentrum Hannover\, Appelstraße 11\, Hannover\, Niedersachsen\, 30167\, Deutschland
ATTACH;FMTTYPE=image/png:https://roberta-hannover.de/wp-content/uploads/2025/11/23ab5a3b-62ed-466e-9871-af4fe0f00fc5.png
ORGANIZER;CN="Roberta RegioZentrum Hannover":MAILTO:info@roberta-hannover.de
END:VEVENT
END:VCALENDAR