BEGIN:VCALENDAR
VERSION:2.0
PRODID:-//Roberta RegioZentrum Hannover - ECPv6.15.20//NONSGML v1.0//EN
CALSCALE:GREGORIAN
METHOD:PUBLISH
X-WR-CALNAME:Roberta RegioZentrum Hannover
X-ORIGINAL-URL:https://roberta-hannover.de
X-WR-CALDESC:Veranstaltungen für Roberta RegioZentrum Hannover
REFRESH-INTERVAL;VALUE=DURATION:PT1H
X-Robots-Tag:noindex
X-PUBLISHED-TTL:PT1H
BEGIN:VTIMEZONE
TZID:Europe/Berlin
BEGIN:DAYLIGHT
TZOFFSETFROM:+0100
TZOFFSETTO:+0200
TZNAME:CEST
DTSTART:20240331T010000
END:DAYLIGHT
BEGIN:STANDARD
TZOFFSETFROM:+0200
TZOFFSETTO:+0100
TZNAME:CET
DTSTART:20241027T010000
END:STANDARD
BEGIN:DAYLIGHT
TZOFFSETFROM:+0100
TZOFFSETTO:+0200
TZNAME:CEST
DTSTART:20250330T010000
END:DAYLIGHT
BEGIN:STANDARD
TZOFFSETFROM:+0200
TZOFFSETTO:+0100
TZNAME:CET
DTSTART:20251026T010000
END:STANDARD
BEGIN:DAYLIGHT
TZOFFSETFROM:+0100
TZOFFSETTO:+0200
TZNAME:CEST
DTSTART:20260329T010000
END:DAYLIGHT
BEGIN:STANDARD
TZOFFSETFROM:+0200
TZOFFSETTO:+0100
TZNAME:CET
DTSTART:20261025T010000
END:STANDARD
END:VTIMEZONE
BEGIN:VEVENT
DTSTART;TZID=Europe/Berlin:20251108T170000
DTEND;TZID=Europe/Berlin:20251108T230000
DTSTAMP:20260423T160751
CREATED:20221221T131419Z
LAST-MODIFIED:20250512T160515Z
UID:8190-1762621200-1762642800@roberta-hannover.de
SUMMARY:Die Nacht\, die Wissen schafft 2025!
DESCRIPTION:Womit beschäftigen sich Wissenschaftlerinnen und Wissenschaftler an der Leibniz Universität Hannover? Was geschieht hinter den Türen von Forschungsbauten und Laboren? Alle zwei Jahre bieten Einrichtungen und Institute der Leibniz Universität bei der „Nacht\, die Wissen schafft“ in Vorträgen\, Führungen\, Experimenten\, Ausstellungen und Mitmachaktionen einen Einblick hinter die Kulissen. Auch dieses Jahr sind wir wieder mit dabei! \nDie nächste „Nacht\, die Wissen schafft“ findet am Samstag\, dem 8. November 2025\, von 17 bis 23 Uhr statt. \nWeitere Infos unter: https://www.uni-hannover.de/en/universitaet/aktuelles/veranstaltungen/ndw/
URL:https://roberta-hannover.de/veranstaltung/die-nacht-die-wissen-schafft
LOCATION:Lichthof Leibniz Universität Hannover\, Welfengarten 1\, Hannover\, 30167\, Deutschland
ATTACH;FMTTYPE=image/jpeg:https://roberta-hannover.de/wp-content/uploads/2022/12/csm_6c3336d4aefa546e0a554688187cc99055560f8c-fp-16-9-0-0_b5dee68157.jpg
ORGANIZER;CN="Roberta RegioZentrum Hannover":MAILTO:info@roberta-hannover.de
END:VEVENT
BEGIN:VEVENT
DTSTART;TZID=Europe/Berlin:20251126T073000
DTEND;TZID=Europe/Berlin:20251126T190000
DTSTAMP:20260423T160751
CREATED:20230909T130750Z
LAST-MODIFIED:20260204T181701Z
UID:9526-1764142200-1764183600@roberta-hannover.de
SUMMARY:Roberta Challenge & Roberta Challenge KREATIV
DESCRIPTION:Die Roberta-Challenge ist ein regionaler Roboterwettbewerb\, der von Schülerinnen entwickelt und organisiert wird. Er richtet sich an Schülerinnen ab der 5. Klasse sowie an Lehrer*innen\, die sich mit ihren Teams daran beteiligen können. Um teilzunehmen\, müssen die Teams im Vorfeld einen fahrtüchtigen Roboter entwickeln und diesen mitbringen. Die Aufgaben\, die die Teams im Wettbewerb bewältigen müssen\, werden erst am Wettbewerbstag bekannt gegeben und sind darauf ausgelegt\, schnell und präzise bearbeitet zu werden. \nDas Spielfeld für den Wettbewerb ist als Parcours aufgebaut\, dessen Thema jährlich von einem Schülerinnenteam entwickelt wird. Die teilnehmenden Teams\, sowohl Schülerteams als auch Lehrerteams\, müssen die vorgefertigten Aufgaben auf dem Parcours bewältigen. Die Lehrerteams bekommen dabei erschwerte Aufgaben gestellt. Die Roberta-Challenge bietet Schülerinnen und Lehrer*innen die Möglichkeit\, sich auf spielerische Weise mit dem Thema Robotik zu beschäftigen und ihre Fähigkeiten unter Beweis zu stellen.
URL:https://roberta-hannover.de/veranstaltung/roberta-challenge-25
LOCATION:Roberta RegioZentrum Hannover\, Appelstraße 11\, Hannover\, Niedersachsen\, 30167\, Deutschland
ATTACH;FMTTYPE=image/webp:https://roberta-hannover.de/wp-content/uploads/2022/12/P1018471.webp
ORGANIZER;CN="Roberta RegioZentrum Hannover":MAILTO:info@roberta-hannover.de
END:VEVENT
END:VCALENDAR