BEGIN:VCALENDAR
VERSION:2.0
PRODID:-//Roberta RegioZentrum Hannover - ECPv6.15.20//NONSGML v1.0//EN
CALSCALE:GREGORIAN
METHOD:PUBLISH
X-ORIGINAL-URL:https://roberta-hannover.de
X-WR-CALDESC:Veranstaltungen für Roberta RegioZentrum Hannover
REFRESH-INTERVAL;VALUE=DURATION:PT1H
X-Robots-Tag:noindex
X-PUBLISHED-TTL:PT1H
BEGIN:VTIMEZONE
TZID:Europe/Berlin
BEGIN:DAYLIGHT
TZOFFSETFROM:+0100
TZOFFSETTO:+0200
TZNAME:CEST
DTSTART:20250330T010000
END:DAYLIGHT
BEGIN:STANDARD
TZOFFSETFROM:+0200
TZOFFSETTO:+0100
TZNAME:CET
DTSTART:20251026T010000
END:STANDARD
BEGIN:DAYLIGHT
TZOFFSETFROM:+0100
TZOFFSETTO:+0200
TZNAME:CEST
DTSTART:20260329T010000
END:DAYLIGHT
BEGIN:STANDARD
TZOFFSETFROM:+0200
TZOFFSETTO:+0100
TZNAME:CET
DTSTART:20261025T010000
END:STANDARD
BEGIN:DAYLIGHT
TZOFFSETFROM:+0100
TZOFFSETTO:+0200
TZNAME:CEST
DTSTART:20270328T010000
END:DAYLIGHT
BEGIN:STANDARD
TZOFFSETFROM:+0200
TZOFFSETTO:+0100
TZNAME:CET
DTSTART:20271031T010000
END:STANDARD
END:VTIMEZONE
BEGIN:VEVENT
DTSTART;TZID=Europe/Berlin:20260210T163000
DTEND;TZID=Europe/Berlin:20260224T180000
DTSTAMP:20260421T195734
CREATED:20250914T083119Z
LAST-MODIFIED:20251107T203517Z
UID:11241-1770741000-1771956000@roberta-hannover.de
SUMMARY:RoboEntdecker*innen mit dem LEGO® Education SPIKE™
DESCRIPTION:Wann: 10.02.2026 + 17.02.2026 + 24.02.2026\, jeweils von 16:30 -18:00 Uhr \nAlter: Ab 3. Klasse und mind. 9 Jahre (Veranstaltungszeitpunkt) \nIn diesem Workshop baust du deinen ersten eigenen Roboter entweder nach Anleitung oder nach deinen eigenen Ideen auf der Basis des LEGO® Education SPIKE™ und lernst ihn mit einer graphischen Programmiersprache zu programmieren. \nDu wirst lernen Sensoren einzusetzen\, damit dein Roboter sehen und sich in der Welt zurechtfinden kann. Am Ende des Workshops kann dein Roboter schon alleine fahren\, tanzen\, einer Linie folgen oder sich in einem Parcours zurechtfinden. \nKosten: 85\,00 € \nWo: Roberta RegioZentrum\, Leibniz Universität Hannover\, Appelstrasse 11 \nGruppengröße: Die Mindestanzahl der Teilnehmenden liegt bei 5 Schüler*innen\, die Anzahl der Plätze ist auf 10 Schüler*innen beschränkt \nOhne Verpflegung! \nFragen bitte an info@roberta-hannover.de \n  \nStornierungsrichtlinien:\nEine kostenfreie Stornierung ist leider nicht möglich.
URL:https://roberta-hannover.de/veranstaltung/roboentdeckerinnen-mit-dem-lego-education-spike-5
LOCATION:Roberta RegioZentrum Hannover\, Appelstraße 11\, Hannover\, Niedersachsen\, 30167\, Deutschland
ATTACH;FMTTYPE=image/png:https://roberta-hannover.de/wp-content/uploads/2025/09/55f9988d-239b-48a3-8f57-38c7f9d6635b.png
ORGANIZER;CN="Roberta RegioZentrum Hannover":MAILTO:info@roberta-hannover.de
END:VEVENT
END:VCALENDAR